BEGIN:VCALENDAR
VERSION:2.0
PRODID:-//wp-events-plugin.com//7.2.3.1//EN
TZID:Europe/Madrid
X-WR-TIMEZONE:Europe/Madrid
BEGIN:VEVENT
UID:5@turiex.net
DTSTART;TZID=Europe/Madrid;VALUE=DATE:20250620
DTEND;TZID=Europe/Madrid;VALUE=DATE:20250701
DTSTAMP:20250624T105911Z
URL:http://turiex.net/eventos_extremadura/de-la-luna-al-fuego-en-zafra/
SUMMARY:De la Luna al Fuego en Zafra
DESCRIPTION:Cita con la historia que recrea la época de esplendor vivida e
 n Zafra bajo el Ducado de Feria durante el siglo de Oro.\n\nLa localidad p
 acense de Zafra se sumerge cada año en un espectáculo de recreación his
 tórica y ambiental que devuelve a la ciudad al siglo XVI\, recreando así
  todo el esplendor vivido en la localidad durante el ducado de los Duques 
 de Feria.\n\nLa ciudad se convierte en un escenario único\, donde se desa
 rrollan multitud de actividades que devuelven a la villa la gloria vivida 
 en el siglo de Oro español. El visitante podrá disfrutar\, a lo largo de
  los diez días que dura esta fiesta con historia\, de un mercado de époc
 a\, visitas guiadas al patrimonio histórico-artístico de la localidad\, 
 pasacalles\, recreación de la cocina sefardí y del Siglo de Oro\, y de a
 mbientaciones y teatralizaciones de hechos históricos acaecidos en Zafra.
 \nUna cita que coincide además con el solsticio de verano y con las fiest
 as de la noche de San Juan\, que en Zafra adopta un carácter interétnico
  con la tradición gitana de la "Mojá de la Vara". Todo ello permitirá a
 l visitante disfrutar de un solsticio de verano diferente\, basado en rito
 s purificadores en torno al agua\; y en un marco único como es Zafra\, un
 a ciudad nobiliaria\, llena de encanto y con historia.\n\n\nLOCALIZACIÓN 
 Y CONTACTO:\nZafra \, Badajoz (Extremadura)\n\n\n\n\n 	Tel.:924 55 10 36\
 n 	Correo: turismo@zafra.es\n 	Correo: turismozafra@gmail.com\n 	Sitio w
 eb: www.visitazafra.com/\n 	Facebook: https://www.facebook.com/Turismo-d
 e-Zafra-728330800581767\n 	Twitter: https://twitter.com/Turismodezafra\n\
 n\n
ATTACH;FMTTYPE=image/jpeg:http://turiex.net/wp-content/uploads/2024/06/A_D
 eLaLunaAlFuego_05.jpg
CATEGORIES:Recreacionismo
END:VEVENT
BEGIN:VTIMEZONE
TZID:Europe/Madrid
X-LIC-LOCATION:Europe/Madrid
BEGIN:DAYLIGHT
DTSTART:20250330T030000
TZOFFSETFROM:+0100
TZOFFSETTO:+0200
TZNAME:CEST
END:DAYLIGHT
END:VTIMEZONE
END:VCALENDAR